BEGIN:VCALENDAR
VERSION:2.0
PRODID:-//radiowienerlied.at - ECPv6.15.20//NONSGML v1.0//EN
CALSCALE:GREGORIAN
METHOD:PUBLISH
X-WR-CALNAME:radiowienerlied.at
X-ORIGINAL-URL:https://radiowienerlied.at
X-WR-CALDESC:Veranstaltungen für radiowienerlied.at
REFRESH-INTERVAL;VALUE=DURATION:PT1H
X-Robots-Tag:noindex
X-PUBLISHED-TTL:PT1H
BEGIN:VTIMEZONE
TZID:Europe/Vienna
BEGIN:DAYLIGHT
TZOFFSETFROM:+0100
TZOFFSETTO:+0200
TZNAME:CEST
DTSTART:20250330T010000
END:DAYLIGHT
BEGIN:STANDARD
TZOFFSETFROM:+0200
TZOFFSETTO:+0100
TZNAME:CET
DTSTART:20251026T010000
END:STANDARD
BEGIN:DAYLIGHT
TZOFFSETFROM:+0100
TZOFFSETTO:+0200
TZNAME:CEST
DTSTART:20260329T010000
END:DAYLIGHT
BEGIN:STANDARD
TZOFFSETFROM:+0200
TZOFFSETTO:+0100
TZNAME:CET
DTSTART:20261025T010000
END:STANDARD
BEGIN:DAYLIGHT
TZOFFSETFROM:+0100
TZOFFSETTO:+0200
TZNAME:CEST
DTSTART:20270328T010000
END:DAYLIGHT
BEGIN:STANDARD
TZOFFSETFROM:+0200
TZOFFSETTO:+0100
TZNAME:CET
DTSTART:20271031T010000
END:STANDARD
END:VTIMEZONE
BEGIN:VEVENT
DTSTART;TZID=Europe/Vienna:20260522T170000
DTEND;TZID=Europe/Vienna:20260522T193000
DTSTAMP:20260421T100828
CREATED:20260212T100554Z
LAST-MODIFIED:20260222T080347Z
UID:32273-1779469200-1779478200@radiowienerlied.at
SUMMARY:SirtakiSchrammeln - Musik für den kleinen Urlaub zwischendurch im Schutzhaus Ottakring
DESCRIPTION:Eine gemütliche Location mit viel Ambiente und gutem Essen< \nSchutzhaus Ottakring 1160 Wien\, Steinlegasse 15 Res. 0676-5072505
URL:https://radiowienerlied.at/veranstaltung/sirtakischrammeln-musik-fuer-den-kleinen-urlaub-zwischendurch-im-schutzhaus-ottakring/
ATTACH;FMTTYPE=image/avif:https://radiowienerlied.at/wp-content/uploads/2026/02/20cede_3b75b2f91d8c4e0582987c1e7f202b54mv2.avif
END:VEVENT
END:VCALENDAR