BEGIN:VCALENDAR
VERSION:2.0
PRODID:-//radiowienerlied.at - ECPv6.15.20//NONSGML v1.0//EN
CALSCALE:GREGORIAN
METHOD:PUBLISH
X-WR-CALNAME:radiowienerlied.at
X-ORIGINAL-URL:https://radiowienerlied.at
X-WR-CALDESC:Veranstaltungen für radiowienerlied.at
REFRESH-INTERVAL;VALUE=DURATION:PT1H
X-Robots-Tag:noindex
X-PUBLISHED-TTL:PT1H
BEGIN:VTIMEZONE
TZID:Europe/Vienna
BEGIN:DAYLIGHT
TZOFFSETFROM:+0100
TZOFFSETTO:+0200
TZNAME:CEST
DTSTART:20250330T010000
END:DAYLIGHT
BEGIN:STANDARD
TZOFFSETFROM:+0200
TZOFFSETTO:+0100
TZNAME:CET
DTSTART:20251026T010000
END:STANDARD
BEGIN:DAYLIGHT
TZOFFSETFROM:+0100
TZOFFSETTO:+0200
TZNAME:CEST
DTSTART:20260329T010000
END:DAYLIGHT
BEGIN:STANDARD
TZOFFSETFROM:+0200
TZOFFSETTO:+0100
TZNAME:CET
DTSTART:20261025T010000
END:STANDARD
BEGIN:DAYLIGHT
TZOFFSETFROM:+0100
TZOFFSETTO:+0200
TZNAME:CEST
DTSTART:20270328T010000
END:DAYLIGHT
BEGIN:STANDARD
TZOFFSETFROM:+0200
TZOFFSETTO:+0100
TZNAME:CET
DTSTART:20271031T010000
END:STANDARD
END:VTIMEZONE
BEGIN:VEVENT
DTSTART;TZID=Europe/Vienna:20260702T170000
DTEND;TZID=Europe/Vienna:20260702T200000
DTSTAMP:20260420T012219
CREATED:20260416T155447Z
LAST-MODIFIED:20260419T090119Z
UID:32649-1783011600-1783022400@radiowienerlied.at
SUMMARY:Heurigenschifffahrt am Neusiedlersee mit Markus Riedmayer und Erich Zib
DESCRIPTION:Radio Wienerlied und Drescher Schifffahrt laden zur Heurigenfahrt mit Wienermusik am Neusiedlersee \nPreis pro Person inclusive Buffet und Musik nur 50\,-€\nDie Getränke sind separat zu zahlen\, aber sehr günstig. So gibt es 1 Liter Wein bereits ab 15\,-€. \nWir starten um 17 Uhr links von der Seebühne\, fahren dann Richtung Rust\, über den See nach Illmitz\, zum ungarischen Grenzstein und dann entlang des Ufers vom Nationalpark Neusiedlersee und hinter der Seebühne vorbei zum Abfahrtsort\, Ankunft 20 Uhr.\nEs gibt ein typisches\, kaltes Buffet mit Kümmelbraten\, Schweinsbraten\, Fleisch\, Wurst\, Käse\, Aufstriche\, Essiggemüse und während der Fahrt Musik\, wo wir Wienermusik\, aber auch Evergreens\, Volksmusik und Operetten spielen werden. \nKurzurlaub am Neusiedlersee: Wir haben ein begrenztes Kontingent an Hotelzimmer im Hotel zum Greiner in Rust und Hotel Drescher in Mörbisch für Zimmer mit Frühstück um 120\,-€ (60\,-€ pro Person und Nacht). Zu buchen mit Name\, Adresse und Geburtsdatum unter touristik@drescher.at und dem Code „HeurigenSchifffahrt mit Erich Zib“ oder über Erich Zib\, Tel. 0664-4873052\, zib@heurigenmusik.at\nMehr Infos & Buchung: Tel. 02685-8820\, drescher.line@drescher.at  www.drescher.at \n 
URL:https://radiowienerlied.at/veranstaltung/heurigenschifffahrt-am-neusiedlersee-mit-markus-riedmayer-und-erich-zib/
CATEGORIES:Veranstaltungen mit Erich Zib
ATTACH;FMTTYPE=image/jpeg:https://radiowienerlied.at/wp-content/uploads/2024/09/2025-markus-erich-schiff.jpg
END:VEVENT
END:VCALENDAR